BEGIN:VCALENDAR
VERSION:2.0
PRODID:-//DREW - ECPv6.15.20//NONSGML v1.0//EN
CALSCALE:GREGORIAN
METHOD:PUBLISH
X-ORIGINAL-URL:https://delawarerealestatewomen.com
X-WR-CALDESC:Events for DREW
REFRESH-INTERVAL;VALUE=DURATION:PT1H
X-Robots-Tag:noindex
X-PUBLISHED-TTL:PT1H
BEGIN:VTIMEZONE
TZID:America/New_York
BEGIN:DAYLIGHT
TZOFFSETFROM:-0500
TZOFFSETTO:-0400
TZNAME:EDT
DTSTART:20200308T070000
END:DAYLIGHT
BEGIN:STANDARD
TZOFFSETFROM:-0400
TZOFFSETTO:-0500
TZNAME:EST
DTSTART:20201101T060000
END:STANDARD
BEGIN:DAYLIGHT
TZOFFSETFROM:-0500
TZOFFSETTO:-0400
TZNAME:EDT
DTSTART:20210314T070000
END:DAYLIGHT
BEGIN:STANDARD
TZOFFSETFROM:-0400
TZOFFSETTO:-0500
TZNAME:EST
DTSTART:20211107T060000
END:STANDARD
BEGIN:DAYLIGHT
TZOFFSETFROM:-0500
TZOFFSETTO:-0400
TZNAME:EDT
DTSTART:20220313T070000
END:DAYLIGHT
BEGIN:STANDARD
TZOFFSETFROM:-0400
TZOFFSETTO:-0500
TZNAME:EST
DTSTART:20221106T060000
END:STANDARD
END:VTIMEZONE
BEGIN:VEVENT
DTSTART;TZID=America/New_York:20210128T111500
DTEND;TZID=America/New_York:20210128T123000
DTSTAMP:20260421T102724
CREATED:20210115T024624Z
LAST-MODIFIED:20210115T221235Z
UID:1074-1611832500-1611837000@delawarerealestatewomen.com
SUMMARY:Exclusive Tour of CSC Station
DESCRIPTION:Join Delaware Real Estate Women for an exclusive tour of CSC Station followed by lunch and networking.\nAll attendees must wear a mask and execute a 1-page waiver with CSC.  \n*limited to 25 attendees  \n\nLocation: CSC Station\nAddress: 112 French St\, Wilmington\, DE 19801\nTime: 11:15 AM – 12:30 PM\nCost: $25.00 for members \n$35 for non-members\n\nFREE parking is available in the lot between CSC building and the Christina River. \nBoxed lunches catered by the newly opened “Park Cafe” located in Wilmington\, DE.
URL:https://delawarerealestatewomen.com/event/exclusive-tour-of-csc-station/
LOCATION:CSC Station\, 112 French Street\, Wilmington\, DE\, 19801\, United States
ORGANIZER;CN="Mary Kate Garman":MAILTO:marykategarman@gmail.com
END:VEVENT
END:VCALENDAR