BEGIN:VCALENDAR
VERSION:2.0
PRODID:-//DREW - ECPv6.15.20//NONSGML v1.0//EN
CALSCALE:GREGORIAN
METHOD:PUBLISH
X-ORIGINAL-URL:https://delawarerealestatewomen.com
X-WR-CALDESC:Events for DREW
REFRESH-INTERVAL;VALUE=DURATION:PT1H
X-Robots-Tag:noindex
X-PUBLISHED-TTL:PT1H
BEGIN:VTIMEZONE
TZID:America/New_York
BEGIN:DAYLIGHT
TZOFFSETFROM:-0500
TZOFFSETTO:-0400
TZNAME:EDT
DTSTART:20200308T070000
END:DAYLIGHT
BEGIN:STANDARD
TZOFFSETFROM:-0400
TZOFFSETTO:-0500
TZNAME:EST
DTSTART:20201101T060000
END:STANDARD
BEGIN:DAYLIGHT
TZOFFSETFROM:-0500
TZOFFSETTO:-0400
TZNAME:EDT
DTSTART:20210314T070000
END:DAYLIGHT
BEGIN:STANDARD
TZOFFSETFROM:-0400
TZOFFSETTO:-0500
TZNAME:EST
DTSTART:20211107T060000
END:STANDARD
BEGIN:DAYLIGHT
TZOFFSETFROM:-0500
TZOFFSETTO:-0400
TZNAME:EDT
DTSTART:20220313T070000
END:DAYLIGHT
BEGIN:STANDARD
TZOFFSETFROM:-0400
TZOFFSETTO:-0500
TZNAME:EST
DTSTART:20221106T060000
END:STANDARD
END:VTIMEZONE
BEGIN:VEVENT
DTSTART;TZID=America/New_York:20210525T160000
DTEND;TZID=America/New_York:20210525T180000
DTSTAMP:20260421T044654
CREATED:20210420T193153Z
LAST-MODIFIED:20210420T193153Z
UID:1224-1621958400-1621965600@delawarerealestatewomen.com
SUMMARY:Child Inc.’s Race Against Domestic Violence
DESCRIPTION:Join DREW on May 25th on a walk to support “Child Inc.’s Race Against Domestic Violence”.\nDREW will be walking as a group on May 25th from the Wilmington Waterfront. Meet behind the Delaware Children’s Museum. After the walk\, we will head to a local restaurant for happy hour (stay tuned for details). \n\nDate: May 25\, 2021\nTime: 4:00 PM walk followed by Happy Hour\nLocation: Meet at the Delaware Children’s Museum\nAddress: 550 Justison St\, Wilmington\, DE 19801\n\n  \nHow to Register: CLICK HERE to sign up!\nSelect register for virtual 5K and be sure to join the team by clicking “Add this registrant to team DREW (Delaware Real Estate Women)”.  This registration will include a Tee shirt that will be sent to everyone who signs up!
URL:https://delawarerealestatewomen.com/event/child-inc-s-race-against-domestic-violence/
LOCATION:Deleware Children’s Museum\, 550 Justison St\, Wilmington\, DE\, 19801\, United States
ORGANIZER;CN="Mary Kate Garman":MAILTO:marykategarman@gmail.com
END:VEVENT
END:VCALENDAR