BEGIN:VCALENDAR
VERSION:2.0
PRODID:-//DREW - ECPv6.15.20//NONSGML v1.0//EN
CALSCALE:GREGORIAN
METHOD:PUBLISH
X-WR-CALNAME:DREW
X-ORIGINAL-URL:https://delawarerealestatewomen.com
X-WR-CALDESC:Events for DREW
REFRESH-INTERVAL;VALUE=DURATION:PT1H
X-Robots-Tag:noindex
X-PUBLISHED-TTL:PT1H
BEGIN:VTIMEZONE
TZID:America/New_York
BEGIN:DAYLIGHT
TZOFFSETFROM:-0500
TZOFFSETTO:-0400
TZNAME:EDT
DTSTART:20200308T070000
END:DAYLIGHT
BEGIN:STANDARD
TZOFFSETFROM:-0400
TZOFFSETTO:-0500
TZNAME:EST
DTSTART:20201101T060000
END:STANDARD
BEGIN:DAYLIGHT
TZOFFSETFROM:-0500
TZOFFSETTO:-0400
TZNAME:EDT
DTSTART:20210314T070000
END:DAYLIGHT
BEGIN:STANDARD
TZOFFSETFROM:-0400
TZOFFSETTO:-0500
TZNAME:EST
DTSTART:20211107T060000
END:STANDARD
BEGIN:DAYLIGHT
TZOFFSETFROM:-0500
TZOFFSETTO:-0400
TZNAME:EDT
DTSTART:20220313T070000
END:DAYLIGHT
BEGIN:STANDARD
TZOFFSETFROM:-0400
TZOFFSETTO:-0500
TZNAME:EST
DTSTART:20221106T060000
END:STANDARD
END:VTIMEZONE
BEGIN:VEVENT
DTSTART;TZID=America/New_York:20210909T120000
DTEND;TZID=America/New_York:20210909T170000
DTSTAMP:20260420T224044
CREATED:20210729T160448Z
LAST-MODIFIED:20210816T151328Z
UID:1249-1631188800-1631206800@delawarerealestatewomen.com
SUMMARY:Annual DREW Golf Outing
DESCRIPTION:Delaware Real Estate Women Invites You to Our Annual Golf Clinic and Outing!\nEvent: DREW Golf Outing (45 min Lesson\, 9 Holes of Golf & Happy Hour)\nDate: Thursday\, September 9th\nLocation: Rock Manor Golf Club \nGolf Lesson: 12:00 PM\nShot Gun Start: 1:00 PM\nHappy Hour: 3:00 PM \nCost:  \n\nDREW Member Golf $60.00\nNon-Member Golf $70.00\nHappy Hour Only $10 for Members\nHappy Hour Only $15 for non-members\n\n*non-golfers are encouraged to attend Happy Hour! \nSponsorship Opportunities Available\n($250 sponsorship) \n\nClosest to the Pin\nWomen’s Longest Drive\nHappy Hour Sponsor
URL:https://delawarerealestatewomen.com/event/annual-drew-golf-outing/
LOCATION:Rock Manor Golf Club\, 1319 Carruthers Lane\, Wilmington\, 19803\, United States
ATTACH;FMTTYPE=image/jpeg:https://delawarerealestatewomen.com/wp-content/uploads/2021/07/A8D7A055-F4EE-4E11-88A5-CE968F458274_4_5005_c.jpeg
ORGANIZER;CN="Mary Kate Garman":MAILTO:marykategarman@gmail.com
END:VEVENT
END:VCALENDAR