BEGIN:VCALENDAR
VERSION:2.0
PRODID:-//DREW - ECPv6.15.20//NONSGML v1.0//EN
CALSCALE:GREGORIAN
METHOD:PUBLISH
X-ORIGINAL-URL:https://delawarerealestatewomen.com
X-WR-CALDESC:Events for DREW
REFRESH-INTERVAL;VALUE=DURATION:PT1H
X-Robots-Tag:noindex
X-PUBLISHED-TTL:PT1H
BEGIN:VTIMEZONE
TZID:America/New_York
BEGIN:DAYLIGHT
TZOFFSETFROM:-0500
TZOFFSETTO:-0400
TZNAME:EDT
DTSTART:20210314T070000
END:DAYLIGHT
BEGIN:STANDARD
TZOFFSETFROM:-0400
TZOFFSETTO:-0500
TZNAME:EST
DTSTART:20211107T060000
END:STANDARD
BEGIN:DAYLIGHT
TZOFFSETFROM:-0500
TZOFFSETTO:-0400
TZNAME:EDT
DTSTART:20220313T070000
END:DAYLIGHT
BEGIN:STANDARD
TZOFFSETFROM:-0400
TZOFFSETTO:-0500
TZNAME:EST
DTSTART:20221106T060000
END:STANDARD
BEGIN:DAYLIGHT
TZOFFSETFROM:-0500
TZOFFSETTO:-0400
TZNAME:EDT
DTSTART:20230312T070000
END:DAYLIGHT
BEGIN:STANDARD
TZOFFSETFROM:-0400
TZOFFSETTO:-0500
TZNAME:EST
DTSTART:20231105T060000
END:STANDARD
END:VTIMEZONE
BEGIN:VEVENT
DTSTART;TZID=America/New_York:20220223T173000
DTEND;TZID=America/New_York:20220223T193000
DTSTAMP:20260420T155221
CREATED:20220201T225010Z
LAST-MODIFIED:20220203T013613Z
UID:1398-1645637400-1645644600@delawarerealestatewomen.com
SUMMARY:Annual DREW Holiday Party
DESCRIPTION:Delaware Real Estate Women\nNew Years Party\n&\nI Am My Sister’s Keeper Fundraiser\nDate: February 23\, 2022\nTime: 5:30 PM – 7:30 PM\nLocation: Taco Grande\nAddress: 600 Justison St\, Wilmington\, DE 19801\nCost: free to all members who have renewed for 2022 / $25.00 for non-members\nAppetizers provided\, cash bar \nRenew DREW membership or join DREW at the event & your $25.00 fee will be applied toward the $50 annual membership \nDREW will be sponsoring I am My Sister’s Keeper\, Wilmington Chapter during 2022.  Please take a look at their website to see the amazing difference that they are making in the lives of girls in the Wilmington area.  www.iammsk.org. \nDREW is working closely with MSK to determine how to best support them.  A separate email will be sent out with specifics on donations. \nRenew Your Membership for 2022 and Your 1st Drink Will Be Provided By DREW \nDREW is open to any woman who works in commercial real estate. Our members include attorneys\, bankers\, architects and other industries related to commercial real estate. Some benefits you receive as a member include: \n\nEducational opportunities such as guest speakers\, workshops\, and in-service training\nNetworking opportunities with other women who are also building a commercial real estate career\nSharing experiences with peer-professional women\n\n  \nThank you to our Holiday Party sponsors!\nAdditional sponsorship opportunities available. Email Denise Ross: Denise.Ross@bdnreit.com
URL:https://delawarerealestatewomen.com/event/annual-drew-holiday-party/
LOCATION:Taco Grande\, 600 Justison Street\, Wilmington\, DE\, 19801\, United States
ORGANIZER;CN="Mary Kate Garman":MAILTO:marykategarman@gmail.com
END:VEVENT
END:VCALENDAR