BEGIN:VCALENDAR
VERSION:2.0
PRODID:-//DREW - ECPv6.15.20//NONSGML v1.0//EN
CALSCALE:GREGORIAN
METHOD:PUBLISH
X-WR-CALNAME:DREW
X-ORIGINAL-URL:https://delawarerealestatewomen.com
X-WR-CALDESC:Events for DREW
REFRESH-INTERVAL;VALUE=DURATION:PT1H
X-Robots-Tag:noindex
X-PUBLISHED-TTL:PT1H
BEGIN:VTIMEZONE
TZID:America/New_York
BEGIN:DAYLIGHT
TZOFFSETFROM:-0500
TZOFFSETTO:-0400
TZNAME:EDT
DTSTART:20210314T070000
END:DAYLIGHT
BEGIN:STANDARD
TZOFFSETFROM:-0400
TZOFFSETTO:-0500
TZNAME:EST
DTSTART:20211107T060000
END:STANDARD
BEGIN:DAYLIGHT
TZOFFSETFROM:-0500
TZOFFSETTO:-0400
TZNAME:EDT
DTSTART:20220313T070000
END:DAYLIGHT
BEGIN:STANDARD
TZOFFSETFROM:-0400
TZOFFSETTO:-0500
TZNAME:EST
DTSTART:20221106T060000
END:STANDARD
BEGIN:DAYLIGHT
TZOFFSETFROM:-0500
TZOFFSETTO:-0400
TZNAME:EDT
DTSTART:20230312T070000
END:DAYLIGHT
BEGIN:STANDARD
TZOFFSETFROM:-0400
TZOFFSETTO:-0500
TZNAME:EST
DTSTART:20231105T060000
END:STANDARD
END:VTIMEZONE
BEGIN:VEVENT
DTSTART;VALUE=DATE:20220922
DTEND;VALUE=DATE:20220923
DTSTAMP:20260420T035631
CREATED:20220603T204203Z
LAST-MODIFIED:20220815T185006Z
UID:1528-1663804800-1663891199@delawarerealestatewomen.com
SUMMARY:Annual DREW Golf Outing 2022
DESCRIPTION:Mark your calendars! (More Information coming soon.) \nAnnual DREW Golf Outing \n\nAttend a lesson followed by a shotgun start of 9 holes.\nHappy Hour to follow in the President’s Room\nCost Per Person $90.00 ($40 for lesson and $50 for 9 holes)\nSponsorship opportunities available!\n\nSCHEDULE OF EVENTS\n\nCLINIC – 12:15pm – 1:15pm\nSHOTGUN – 1:30pm – 3:30pm\nHAPPY HOUR – 3:30pm – 5:30pm
URL:https://delawarerealestatewomen.com/event/annual-drew-golf-outing-2022/
LOCATION:DuPont Country Club\, 1001 Rockland Rd\, Wilmington\, DE\, 19803\, United States
ORGANIZER;CN="DREW":MAILTO:dedrewde@gmail.com
END:VEVENT
END:VCALENDAR