BEGIN:VCALENDAR
VERSION:2.0
PRODID:-//DREW - ECPv6.15.20//NONSGML v1.0//EN
CALSCALE:GREGORIAN
METHOD:PUBLISH
X-ORIGINAL-URL:https://delawarerealestatewomen.com
X-WR-CALDESC:Events for DREW
REFRESH-INTERVAL;VALUE=DURATION:PT1H
X-Robots-Tag:noindex
X-PUBLISHED-TTL:PT1H
BEGIN:VTIMEZONE
TZID:America/New_York
BEGIN:DAYLIGHT
TZOFFSETFROM:-0500
TZOFFSETTO:-0400
TZNAME:EDT
DTSTART:20220313T070000
END:DAYLIGHT
BEGIN:STANDARD
TZOFFSETFROM:-0400
TZOFFSETTO:-0500
TZNAME:EST
DTSTART:20221106T060000
END:STANDARD
BEGIN:DAYLIGHT
TZOFFSETFROM:-0500
TZOFFSETTO:-0400
TZNAME:EDT
DTSTART:20230312T070000
END:DAYLIGHT
BEGIN:STANDARD
TZOFFSETFROM:-0400
TZOFFSETTO:-0500
TZNAME:EST
DTSTART:20231105T060000
END:STANDARD
BEGIN:DAYLIGHT
TZOFFSETFROM:-0500
TZOFFSETTO:-0400
TZNAME:EDT
DTSTART:20240310T070000
END:DAYLIGHT
BEGIN:STANDARD
TZOFFSETFROM:-0400
TZOFFSETTO:-0500
TZNAME:EST
DTSTART:20241103T060000
END:STANDARD
END:VTIMEZONE
BEGIN:VEVENT
DTSTART;TZID=America/New_York:20230523T160000
DTEND;TZID=America/New_York:20230523T193000
DTSTAMP:20260419T141546
CREATED:20230505T001838Z
LAST-MODIFIED:20230505T211501Z
UID:1840-1684857600-1684870200@delawarerealestatewomen.com
SUMMARY:901 Market Tower Tour and Happy Hour
DESCRIPTION:You’re Invited! \nJoin DREW for a tour of the new 901 Market Tower Apartments followed by a private happy hour at The Chancery Market. The tour of 901 Market Tower will hosted by Westover Companies’ property manager\, Ashley Crossan. Tour the luxury apartments located in Wilmington\, only minutes from Route 202 and within walking distance of restaurants\, shopping\, and entertainment! \nAfter the tour\, join DREW for Happy Hour. All attendees’ first drink will be covered by DREW.  In addition there will be a cash bar and appetizers available. \n         \nMay 23\, 2023 \nLocation: 901 Market Tower Apartments \nAddress:  901 N Market St # 460\, Wilmington\, DE 19801 \nTime: 4 – 7:30 pm \nCost: $25 for Members | $35 for Non-Members \nThank you to our Diamond Sponsors: \n         \nThank you to our Rose Gold Sponsors: \n         
URL:https://delawarerealestatewomen.com/event/901-market-tower-tour-and-happy-hour/
LOCATION:901 Market Tower Apartments\, 901 north market street #460\, Wilmington\, DE\, 19801\, United States
ATTACH;FMTTYPE=image/png:https://delawarerealestatewomen.com/wp-content/uploads/2023/05/901-Market-Tower-Site-Tour-Happy-Hour-1.png
ORGANIZER;CN="DREW":MAILTO:dedrewde@gmail.com
END:VEVENT
END:VCALENDAR