BEGIN:VCALENDAR
VERSION:2.0
PRODID:-//DREW - ECPv6.15.20//NONSGML v1.0//EN
CALSCALE:GREGORIAN
METHOD:PUBLISH
X-WR-CALNAME:DREW
X-ORIGINAL-URL:https://delawarerealestatewomen.com
X-WR-CALDESC:Events for DREW
REFRESH-INTERVAL;VALUE=DURATION:PT1H
X-Robots-Tag:noindex
X-PUBLISHED-TTL:PT1H
BEGIN:VTIMEZONE
TZID:America/New_York
BEGIN:DAYLIGHT
TZOFFSETFROM:-0500
TZOFFSETTO:-0400
TZNAME:EDT
DTSTART:20220313T070000
END:DAYLIGHT
BEGIN:STANDARD
TZOFFSETFROM:-0400
TZOFFSETTO:-0500
TZNAME:EST
DTSTART:20221106T060000
END:STANDARD
BEGIN:DAYLIGHT
TZOFFSETFROM:-0500
TZOFFSETTO:-0400
TZNAME:EDT
DTSTART:20230312T070000
END:DAYLIGHT
BEGIN:STANDARD
TZOFFSETFROM:-0400
TZOFFSETTO:-0500
TZNAME:EST
DTSTART:20231105T060000
END:STANDARD
BEGIN:DAYLIGHT
TZOFFSETFROM:-0500
TZOFFSETTO:-0400
TZNAME:EDT
DTSTART:20240310T070000
END:DAYLIGHT
BEGIN:STANDARD
TZOFFSETFROM:-0400
TZOFFSETTO:-0500
TZNAME:EST
DTSTART:20241103T060000
END:STANDARD
END:VTIMEZONE
BEGIN:VEVENT
DTSTART;TZID=America/New_York:20230713T160000
DTEND;TZID=America/New_York:20230713T180000
DTSTAMP:20260419T105425
CREATED:20230505T212459Z
LAST-MODIFIED:20230614T033855Z
UID:1858-1689264000-1689271200@delawarerealestatewomen.com
SUMMARY:Paradise Tiki Tours Cruise
DESCRIPTION:Date: July 13\, 2023 \nLocation: 620 Justison Street \nWilmington\, DE 19801 \nJoin Delaware Real Estate Women for a private Tiki Tour on Wilmington’s Riverfront! There will be drinks\, hors d’ oeuvres and networking. Connect with other women who are also building their career all while enjoying the Christina River! \n  \nParadise Tiki Tours is located behind Iron Hill Brewery & Taco Grande along the Riverwalk! \n  \nFREE parking is located at the Riverfront’s Lot K\, located off Beech Street between Judy Johnson Drive and Shipyard Drive. Those using GPS should enter 601 South Madison Street. \n  \nCost to attend: \n$35.00/person (members) \n$50.00/person (non-members) \nCost includes: 1 drink ticket\, hors d’ oeuvres\, and the cruise \nRenew your membership today to attend all events at the member rate. \nThank you to our Event Sponsor: \n \nThank you to our Diamond Sponsors: \n         \nThank you to our Rose Gold Sponsors: \n           \n 
URL:https://delawarerealestatewomen.com/event/paradise-tiki-tours-cruise/
LOCATION:620 Justison Street\, 620 Justison Street\, Wilmington\, DE\, 19801\, United States
ATTACH;FMTTYPE=image/png:https://delawarerealestatewomen.com/wp-content/uploads/2023/05/Tiki-Tour-2.png
ORGANIZER;CN="DREW":MAILTO:dedrewde@gmail.com
END:VEVENT
END:VCALENDAR