BEGIN:VCALENDAR
VERSION:2.0
PRODID:-//DREW - ECPv6.15.20//NONSGML v1.0//EN
CALSCALE:GREGORIAN
METHOD:PUBLISH
X-ORIGINAL-URL:https://delawarerealestatewomen.com
X-WR-CALDESC:Events for DREW
REFRESH-INTERVAL;VALUE=DURATION:PT1H
X-Robots-Tag:noindex
X-PUBLISHED-TTL:PT1H
BEGIN:VTIMEZONE
TZID:America/New_York
BEGIN:DAYLIGHT
TZOFFSETFROM:-0500
TZOFFSETTO:-0400
TZNAME:EDT
DTSTART:20180311T070000
END:DAYLIGHT
BEGIN:STANDARD
TZOFFSETFROM:-0400
TZOFFSETTO:-0500
TZNAME:EST
DTSTART:20181104T060000
END:STANDARD
BEGIN:DAYLIGHT
TZOFFSETFROM:-0500
TZOFFSETTO:-0400
TZNAME:EDT
DTSTART:20190310T070000
END:DAYLIGHT
BEGIN:STANDARD
TZOFFSETFROM:-0400
TZOFFSETTO:-0500
TZNAME:EST
DTSTART:20191103T060000
END:STANDARD
BEGIN:DAYLIGHT
TZOFFSETFROM:-0500
TZOFFSETTO:-0400
TZNAME:EDT
DTSTART:20200308T070000
END:DAYLIGHT
BEGIN:STANDARD
TZOFFSETFROM:-0400
TZOFFSETTO:-0500
TZNAME:EST
DTSTART:20201101T060000
END:STANDARD
END:VTIMEZONE
BEGIN:VEVENT
DTSTART;TZID=America/New_York:20190717T171500
DTEND;TZID=America/New_York:20190717T184500
DTSTAMP:20260422T181031
CREATED:20190617T145742Z
LAST-MODIFIED:20190617T145742Z
UID:746-1563383700-1563389100@delawarerealestatewomen.com
SUMMARY:Wednesday's On The Water Wine Cruise
DESCRIPTION:Event: Wednesday’s On The Water Wine Cruise\nDate: July 17\, 2019\nTime: 5:15 – 6:45 PM\nLocation: Dravo Dock\n(located between 2 colorful cranes)\n998 Pettinaro Park Drive\, Wilmington\, DE 19801\nCost: $30 members\, $35 non-members\n*Includes Lite Appetizers & Wine
URL:https://delawarerealestatewomen.com/event/wednesdays-on-the-water-wine-cruise/
LOCATION:Dravo Dock\, 920 Pettinaro Park Dr\, Wilmington\, DE\, 19801
ATTACH;FMTTYPE=image/png:https://delawarerealestatewomen.com/wp-content/uploads/2019/06/Capture.png
ORGANIZER;CN="Mary Kate Garman":MAILTO:marykategarman@gmail.com
END:VEVENT
END:VCALENDAR