BEGIN:VCALENDAR
VERSION:2.0
PRODID:-//DREW - ECPv6.15.20//NONSGML v1.0//EN
CALSCALE:GREGORIAN
METHOD:PUBLISH
X-WR-CALNAME:DREW
X-ORIGINAL-URL:https://delawarerealestatewomen.com
X-WR-CALDESC:Events for DREW
REFRESH-INTERVAL;VALUE=DURATION:PT1H
X-Robots-Tag:noindex
X-PUBLISHED-TTL:PT1H
BEGIN:VTIMEZONE
TZID:America/New_York
BEGIN:DAYLIGHT
TZOFFSETFROM:-0500
TZOFFSETTO:-0400
TZNAME:EDT
DTSTART:20190310T070000
END:DAYLIGHT
BEGIN:STANDARD
TZOFFSETFROM:-0400
TZOFFSETTO:-0500
TZNAME:EST
DTSTART:20191103T060000
END:STANDARD
BEGIN:DAYLIGHT
TZOFFSETFROM:-0500
TZOFFSETTO:-0400
TZNAME:EDT
DTSTART:20200308T070000
END:DAYLIGHT
BEGIN:STANDARD
TZOFFSETFROM:-0400
TZOFFSETTO:-0500
TZNAME:EST
DTSTART:20201101T060000
END:STANDARD
BEGIN:DAYLIGHT
TZOFFSETFROM:-0500
TZOFFSETTO:-0400
TZNAME:EDT
DTSTART:20210314T070000
END:DAYLIGHT
BEGIN:STANDARD
TZOFFSETFROM:-0400
TZOFFSETTO:-0500
TZNAME:EST
DTSTART:20211107T060000
END:STANDARD
END:VTIMEZONE
BEGIN:VEVENT
DTSTART;TZID=America/New_York:20200924T170000
DTEND;TZID=America/New_York:20200924T200000
DTSTAMP:20260421T153751
CREATED:20200910T142332Z
LAST-MODIFIED:20200910T142332Z
UID:1036-1600966800-1600977600@delawarerealestatewomen.com
SUMMARY:Happy Hour & Networking
DESCRIPTION:Join Delaware Real Estate Women for an outdoor \nHappy Hour at Banks Seafood Kitchen & Raw Bar\nCash bar. Light appetizers provided by DREW and Sponsored by Potter Anderson & Corroon LLP. \nLocation: Banks’ Seafood Kitchen and Raw Bar\nAddress: 101 S Market St\, Wilmington\, DE 19801\nTime: 5:00 PM – 8:00 PM\nCost: FREE for members \n($25 for non-members)
URL:https://delawarerealestatewomen.com/event/happy-hour-networking/
LOCATION:Banks’ Seafood Kitchen and Raw Bar\, 101 S Market St\, Wilmington\, DE\, 19801\, United States
ORGANIZER;CN="Mary Kate Garman":MAILTO:marykategarman@gmail.com
END:VEVENT
END:VCALENDAR