BEGIN:VCALENDAR
VERSION:2.0
PRODID:-//DREW - ECPv6.15.20//NONSGML v1.0//EN
CALSCALE:GREGORIAN
METHOD:PUBLISH
X-ORIGINAL-URL:https://delawarerealestatewomen.com
X-WR-CALDESC:Events for DREW
REFRESH-INTERVAL;VALUE=DURATION:PT1H
X-Robots-Tag:noindex
X-PUBLISHED-TTL:PT1H
BEGIN:VTIMEZONE
TZID:America/New_York
BEGIN:DAYLIGHT
TZOFFSETFROM:-0500
TZOFFSETTO:-0400
TZNAME:EDT
DTSTART:20200308T070000
END:DAYLIGHT
BEGIN:STANDARD
TZOFFSETFROM:-0400
TZOFFSETTO:-0500
TZNAME:EST
DTSTART:20201101T060000
END:STANDARD
BEGIN:DAYLIGHT
TZOFFSETFROM:-0500
TZOFFSETTO:-0400
TZNAME:EDT
DTSTART:20210314T070000
END:DAYLIGHT
BEGIN:STANDARD
TZOFFSETFROM:-0400
TZOFFSETTO:-0500
TZNAME:EST
DTSTART:20211107T060000
END:STANDARD
BEGIN:DAYLIGHT
TZOFFSETFROM:-0500
TZOFFSETTO:-0400
TZNAME:EDT
DTSTART:20220313T070000
END:DAYLIGHT
BEGIN:STANDARD
TZOFFSETFROM:-0400
TZOFFSETTO:-0500
TZNAME:EST
DTSTART:20221106T060000
END:STANDARD
END:VTIMEZONE
BEGIN:VEVENT
DTSTART;TZID=America/New_York:20210428T160000
DTEND;TZID=America/New_York:20210428T180000
DTSTAMP:20260421T044652
CREATED:20210420T192112Z
LAST-MODIFIED:20210420T192302Z
UID:1214-1619625600-1619632800@delawarerealestatewomen.com
SUMMARY:Exclusive Tour of 2000 Pennsylvania Avenue
DESCRIPTION:Join Delaware Real Estate Women for an exclusive tour of 2000 Pennsylvania Avenue followed by Happy Hour at Santa Fe Mexican Grill and networking.\n  \n\nLocation:2000 Penn\nAddress: 2000 Pennsylvania Avenue | Wilmington\, DE 19806\nTime: 4:00 PM Tour\nCost: $15.00 for members \n$25 for non-members\n\nFREE parking is available within the 2000 Pennsylvania Avenue garage (entrance behind the building on Grant Avenue).
URL:https://delawarerealestatewomen.com/event/exclusive-tour-of-2000-pennsylvania-avenue/
LOCATION:2000 Pennsylvania Avenue\, 2000 Pennsylvania Avenue\, Wilmington\, DE\, 19806\, United States
ATTACH;FMTTYPE=image/png:https://delawarerealestatewomen.com/wp-content/uploads/2021/04/drew-penn.png
ORGANIZER;CN="Mary Kate Garman":MAILTO:marykategarman@gmail.com
END:VEVENT
END:VCALENDAR