BEGIN:VCALENDAR
VERSION:2.0
PRODID:-//DREW - ECPv6.15.20//NONSGML v1.0//EN
CALSCALE:GREGORIAN
METHOD:PUBLISH
X-ORIGINAL-URL:https://delawarerealestatewomen.com
X-WR-CALDESC:Events for DREW
REFRESH-INTERVAL;VALUE=DURATION:PT1H
X-Robots-Tag:noindex
X-PUBLISHED-TTL:PT1H
BEGIN:VTIMEZONE
TZID:America/New_York
BEGIN:DAYLIGHT
TZOFFSETFROM:-0500
TZOFFSETTO:-0400
TZNAME:EDT
DTSTART:20210314T070000
END:DAYLIGHT
BEGIN:STANDARD
TZOFFSETFROM:-0400
TZOFFSETTO:-0500
TZNAME:EST
DTSTART:20211107T060000
END:STANDARD
BEGIN:DAYLIGHT
TZOFFSETFROM:-0500
TZOFFSETTO:-0400
TZNAME:EDT
DTSTART:20220313T070000
END:DAYLIGHT
BEGIN:STANDARD
TZOFFSETFROM:-0400
TZOFFSETTO:-0500
TZNAME:EST
DTSTART:20221106T060000
END:STANDARD
BEGIN:DAYLIGHT
TZOFFSETFROM:-0500
TZOFFSETTO:-0400
TZNAME:EDT
DTSTART:20230312T070000
END:DAYLIGHT
BEGIN:STANDARD
TZOFFSETFROM:-0400
TZOFFSETTO:-0500
TZNAME:EST
DTSTART:20231105T060000
END:STANDARD
END:VTIMEZONE
BEGIN:VEVENT
DTSTART;TZID=America/New_York:20220727T154500
DTEND;TZID=America/New_York:20220915T180000
DTSTAMP:20260420T035122
CREATED:20220815T183919Z
LAST-MODIFIED:20220815T183950Z
UID:1573-1658936700-1663264800@delawarerealestatewomen.com
SUMMARY:TEST TEST Paradise Tiki Tours
DESCRIPTION:Join Delaware Real Estate Women for a private Tiki Tour on Wilmington’s Riverfront! There will be drinks\, hors d’ oeuvres and networking. Connect with other women who are also building their career all while enjoying the Christina River! \nParadise Tiki Tours is located behind Iron Hill Brewery & Taco Grande along the Riverwalk! \nFREE parking is located at the Riverfront’s Lot K\, located off Beech Street between Judy Johnson Drive and Shipyard Drive. Those using GPS should enter 601 South Madison Street. \nCost to attend:\n$35.00/person (members)\n$50.00/person (non-members)\nCost includes: 1 drink ticket\, hors d’ oeuvres\, and the cruise \nRenew your membership today to attend all events at the member rate. \n 
URL:https://delawarerealestatewomen.com/event/test-test-paradise-tiki-tours/
LOCATION:620 Justison Street\, 620 Justison Street\, Wilmington\, DE\, 19801\, United States
ORGANIZER;CN="DREW":MAILTO:dedrewde@gmail.com
END:VEVENT
END:VCALENDAR