BEGIN:VCALENDAR
VERSION:2.0
PRODID:-//DREW - ECPv6.15.20//NONSGML v1.0//EN
CALSCALE:GREGORIAN
METHOD:PUBLISH
X-ORIGINAL-URL:https://delawarerealestatewomen.com
X-WR-CALDESC:Events for DREW
REFRESH-INTERVAL;VALUE=DURATION:PT1H
X-Robots-Tag:noindex
X-PUBLISHED-TTL:PT1H
BEGIN:VTIMEZONE
TZID:America/New_York
BEGIN:DAYLIGHT
TZOFFSETFROM:-0500
TZOFFSETTO:-0400
TZNAME:EDT
DTSTART:20220313T070000
END:DAYLIGHT
BEGIN:STANDARD
TZOFFSETFROM:-0400
TZOFFSETTO:-0500
TZNAME:EST
DTSTART:20221106T060000
END:STANDARD
BEGIN:DAYLIGHT
TZOFFSETFROM:-0500
TZOFFSETTO:-0400
TZNAME:EDT
DTSTART:20230312T070000
END:DAYLIGHT
BEGIN:STANDARD
TZOFFSETFROM:-0400
TZOFFSETTO:-0500
TZNAME:EST
DTSTART:20231105T060000
END:STANDARD
BEGIN:DAYLIGHT
TZOFFSETFROM:-0500
TZOFFSETTO:-0400
TZNAME:EDT
DTSTART:20240310T070000
END:DAYLIGHT
BEGIN:STANDARD
TZOFFSETFROM:-0400
TZOFFSETTO:-0500
TZNAME:EST
DTSTART:20241103T060000
END:STANDARD
END:VTIMEZONE
BEGIN:VEVENT
DTSTART;TZID=America/New_York:20230221T120000
DTEND;TZID=America/New_York:20230221T170000
DTSTAMP:20260419T174725
CREATED:20230210T180842Z
LAST-MODIFIED:20230210T181004Z
UID:1788-1676980800-1676998800@delawarerealestatewomen.com
SUMMARY:Lunch and Learn Event
DESCRIPTION:On February 21st\, Delaware Real Estate Women will be hosting an exciting Lunch and Learn Event at The Garman Goup’s office on Delaware Avenue. Owner\, Mary Kate Garman will give a presentation about starting a business\, real estate investing\, and Property Management. She will also share about the role social media plays in real estate. The Garman Group at Compass is a group of local real estate agents located in Wilmington\, DE \nThere is ample street parking in Delaware Avenue. Lunch will be provided for all attendees.  \nCost to attend:\n$20.00/person (members)\n$30.00/person (non-members) \nRenew your membership today to attend all events at the member rate. \nThank you to our Diamond Sponsor: \n \nThank you to our Event Sponsors:  \n \n 
URL:https://delawarerealestatewomen.com/event/lunch-and-learn-event/
LOCATION:Garman Group\, 1801 Delaware Ave\, Wilmington\, DE\, 19806\, United States
ATTACH;FMTTYPE=image/png:https://delawarerealestatewomen.com/wp-content/uploads/2023/02/drew-event.png
ORGANIZER;CN="Mary Kate Garman":MAILTO:marykategarman@gmail.com
END:VEVENT
END:VCALENDAR