BEGIN:VCALENDAR
VERSION:2.0
PRODID:-//DREW - ECPv6.15.20//NONSGML v1.0//EN
CALSCALE:GREGORIAN
METHOD:PUBLISH
X-ORIGINAL-URL:https://delawarerealestatewomen.com
X-WR-CALDESC:Events for DREW
REFRESH-INTERVAL;VALUE=DURATION:PT1H
X-Robots-Tag:noindex
X-PUBLISHED-TTL:PT1H
BEGIN:VTIMEZONE
TZID:America/New_York
BEGIN:DAYLIGHT
TZOFFSETFROM:-0500
TZOFFSETTO:-0400
TZNAME:EDT
DTSTART:20250309T070000
END:DAYLIGHT
BEGIN:STANDARD
TZOFFSETFROM:-0400
TZOFFSETTO:-0500
TZNAME:EST
DTSTART:20251102T060000
END:STANDARD
BEGIN:DAYLIGHT
TZOFFSETFROM:-0500
TZOFFSETTO:-0400
TZNAME:EDT
DTSTART:20260308T070000
END:DAYLIGHT
BEGIN:STANDARD
TZOFFSETFROM:-0400
TZOFFSETTO:-0500
TZNAME:EST
DTSTART:20261101T060000
END:STANDARD
BEGIN:DAYLIGHT
TZOFFSETFROM:-0500
TZOFFSETTO:-0400
TZNAME:EDT
DTSTART:20270314T070000
END:DAYLIGHT
BEGIN:STANDARD
TZOFFSETFROM:-0400
TZOFFSETTO:-0500
TZNAME:EST
DTSTART:20271107T060000
END:STANDARD
END:VTIMEZONE
BEGIN:VEVENT
DTSTART;TZID=America/New_York:20260320T100000
DTEND;TZID=America/New_York:20260320T110000
DTSTAMP:20260419T130917
CREATED:20260223T160738Z
LAST-MODIFIED:20260316T130201Z
UID:2999-1774000800-1774004400@delawarerealestatewomen.com
SUMMARY:WuXi STA Pharmaceutical Site Tour
DESCRIPTION:Celebrate Women in Construction with an exclusive site tour of the new WuXi STA pharmaceutical manufacturing campus in Middletown\, DE. This is a hard hat tour so please bring your PPE including hardhat\, safety glasses\, vest\, and substantial\, close-toed shoes. There will be some PPE available to borrow the day of the event. \nWhiting-Turner will be giving DREW members an exclusive tour of the new WuXi STA pharmaceutical manufacturing campus\, a major new advanced manufacturing facility currently under construction in Middletown\, Delaware — a transformational project for the region’s life sciences and industrial landscape. This is a FREE DREW event and a great chance to see behind the scenes of Delaware’s future in pharmaceutical manufacturing.
URL:https://delawarerealestatewomen.com/event/wuxi-sta-pharmaceutical-hard-hat-site-tour/
LOCATION:WuXi\, 1091 Industrial Drive\, Middletown\, DE\, 19709\, United States
ATTACH;FMTTYPE=image/jpeg:https://delawarerealestatewomen.com/wp-content/uploads/2026/02/Hard-hat-Tour-scaled.jpg
ORGANIZER;CN="DREW":MAILTO:dedrewde@gmail.com
END:VEVENT
BEGIN:VEVENT
DTSTART;TZID=America/New_York:20260325T080000
DTEND;TZID=America/New_York:20261231T170000
DTSTAMP:20260419T130917
CREATED:20260326T152329Z
LAST-MODIFIED:20260414T211537Z
UID:3124-1774425600-1798736400@delawarerealestatewomen.com
SUMMARY:Corporate Sponsorship - 2026
DESCRIPTION:Benefits of Sponsoring Delaware Real Estate Women \nAre you ready to elevate your brand and build meaningful connections within Delaware’s thriving real estate community? \nThe Delaware Real Estate Women’s Networking Group invites your organization to partner with us as a valued sponsor. Whether you choose to become a yearly sponsor or support a specific event\, you’ll gain direct access to a dynamic network of real estate professionals\, decision-makers\, and industry influencers. \nWhy Sponsor Delaware Real Estate Women? \nBrand Visibility – Showcase your business to a targeted audience of real estate professionals \nBuild Strategic Relationships – Connect with agents\, lenders\, investors\, and industry leaders \nEnhance Community Presence – Demonstrate your support for empowering women in real estate \nTargeted Marketing – Gain exposure through events\, promotions\, and digital platforms \nPosition Your Brand as an Industry Leader – Stand out as a trusted and engaged partner in the industry \nDon’t miss this opportunity to make a lasting impression in Delaware’s real estate community. Sign up for your corporate sponsorship using the form below. \nFor more information or to explore sponsorship opportunities\, please contact us at info@delawarerealestatewomen.com.
URL:https://delawarerealestatewomen.com/event/corporate-sponsorship-opportunities-2026/
LOCATION:DE
END:VEVENT
END:VCALENDAR